Package: speckle Version: 1.4.0 Command: /Library/Frameworks/R.framework/Resources/bin/R CMD check --install=check:speckle.install-out.txt --library=/Library/Frameworks/R.framework/Resources/library --no-vignettes --timings speckle_1.4.0.tar.gz StartedAt: 2024-10-18 13:28:13 -0400 (Fri, 18 Oct 2024) EndedAt: 2024-10-18 13:33:27 -0400 (Fri, 18 Oct 2024) EllapsedTime: 314.0 seconds RetCode: 0 Status: OK CheckDir: speckle.Rcheck Warnings: 0