Package: specL Version: 1.38.0 Command: chmod a+r specL -R && E:\biocbuild\bbs-3.19-bioc\R\bin\R.exe CMD build --keep-empty-dirs --no-resave-data specL StartedAt: 2024-10-16 22:07:37 -0400 (Wed, 16 Oct 2024) EndedAt: 2024-10-16 22:08:12 -0400 (Wed, 16 Oct 2024) EllapsedTime: 35.0 seconds RetCode: 0 Status: OK PackageFile: specL_1.38.0.tar.gz PackageFileSize: 1.387 MiB