Package: specL Version: 1.38.0 Command: F:\biocbuild\bbs-3.19-bioc\R\bin\R.exe CMD INSTALL specL StartedAt: 2024-06-26 15:55:41 -0400 (Wed, 26 Jun 2024) EndedAt: 2024-06-26 15:55:55 -0400 (Wed, 26 Jun 2024) EllapsedTime: 14.0 seconds RetCode: 0 Status: OK