Package: specL Version: 1.38.0 Command: /Library/Frameworks/R.framework/Resources/bin/R CMD INSTALL specL StartedAt: 2024-10-16 16:12:15 -0400 (Wed, 16 Oct 2024) EndedAt: 2024-10-16 16:12:22 -0400 (Wed, 16 Oct 2024) EllapsedTime: 7.2 seconds RetCode: 0 Status: OK