Package: spatzie Version: 1.10.0 Command: chmod a+r spatzie -R && E:\biocbuild\bbs-3.19-bioc\R\bin\R.exe CMD build --keep-empty-dirs --no-resave-data spatzie StartedAt: 2024-10-16 22:06:47 -0400 (Wed, 16 Oct 2024) EndedAt: 2024-10-16 22:08:00 -0400 (Wed, 16 Oct 2024) EllapsedTime: 73.3 seconds RetCode: 0 Status: OK PackageFile: spatzie_1.10.0.tar.gz PackageFileSize: 1.884 MiB