Package: spatzie Version: 1.10.0 Command: rm -rf spatzie.buildbin-libdir && mkdir spatzie.buildbin-libdir && E:\biocbuild\bbs-3.19-bioc\R\bin\R.exe CMD INSTALL --build --library=spatzie.buildbin-libdir spatzie_1.10.0.tar.gz StartedAt: 2024-10-17 08:42:13 -0400 (Thu, 17 Oct 2024) EndedAt: 2024-10-17 08:43:25 -0400 (Thu, 17 Oct 2024) EllapsedTime: 72.5 seconds RetCode: 0 Status: OK PackageFile: spatzie_1.10.0.zip PackageFileSize: 2.412 MiB