Package: spatzie Version: 1.10.0 Command: /home/biocbuild/bbs-3.19-bioc/R/bin/R CMD build --keep-empty-dirs --no-resave-data spatzie StartedAt: 2024-10-16 20:58:15 -0400 (Wed, 16 Oct 2024) EndedAt: 2024-10-16 20:59:14 -0400 (Wed, 16 Oct 2024) EllapsedTime: 59.1 seconds RetCode: 0 Status: OK PackageFile: spatzie_1.10.0.tar.gz PackageFileSize: 1.884 MiB