Package: spatzie Version: 1.10.0 Command: /Library/Frameworks/R.framework/Resources/bin/R CMD build --keep-empty-dirs --no-resave-data spatzie StartedAt: 2024-10-16 23:36:03 -0400 (Wed, 16 Oct 2024) EndedAt: 2024-10-16 23:38:27 -0400 (Wed, 16 Oct 2024) EllapsedTime: 144.1 seconds RetCode: 0 Status: OK PackageFile: spatzie_1.10.0.tar.gz PackageFileSize: 1.884 MiB