Package: spatzie Version: 1.10.0 Command: /home/biocbuild/R/R-beta-2024-04-15_r86425/bin/R CMD INSTALL spatzie StartedAt: 2024-05-08 20:41:43 -0000 (Wed, 08 May 2024) EndedAt: 2024-05-08 20:43:02 -0000 (Wed, 08 May 2024) EllapsedTime: 78.6 seconds RetCode: 0 Status: OK