Package: spatzie Version: 1.10.0 Command: /Library/Frameworks/R.framework/Resources/bin/R CMD check --install=check:spatzie.install-out.txt --library=/Library/Frameworks/R.framework/Resources/library --no-vignettes --timings spatzie_1.10.0.tar.gz StartedAt: 2024-06-11 06:38:43 -0400 (Tue, 11 Jun 2024) EndedAt: 2024-06-11 06:50:31 -0400 (Tue, 11 Jun 2024) EllapsedTime: 707.9 seconds RetCode: 0 Status: OK CheckDir: spatzie.Rcheck Warnings: 0