Package: spatzie Version: 1.10.0 Command: rm -rf spatzie.buildbin-libdir && mkdir spatzie.buildbin-libdir && /Users/biocbuild/BBS/utils/build-universal.sh spatzie_1.10.0.tar.gz /Library/Frameworks/R.framework/Resources/bin/R spatzie.buildbin-libdir StartedAt: 2024-06-11 13:22:04 -0400 (Tue, 11 Jun 2024) EndedAt: 2024-06-11 13:24:01 -0400 (Tue, 11 Jun 2024) EllapsedTime: 116.7 seconds RetCode: 0 Status: OK PackageFile: spatzie_1.10.0.tgz PackageFileSize: 2.522 MiB