Package: spatzie Version: 1.10.0 Command: /Library/Frameworks/R.framework/Resources/bin/R CMD INSTALL spatzie StartedAt: 2024-10-16 17:24:19 -0400 (Wed, 16 Oct 2024) EndedAt: 2024-10-16 17:25:28 -0400 (Wed, 16 Oct 2024) EllapsedTime: 68.5 seconds RetCode: 0 Status: OK