Package: spatzie Version: 1.10.0 Command: /Library/Frameworks/R.framework/Resources/bin/R CMD build --keep-empty-dirs --no-resave-data spatzie StartedAt: 2024-10-17 09:50:44 -0400 (Thu, 17 Oct 2024) EndedAt: 2024-10-17 09:51:59 -0400 (Thu, 17 Oct 2024) EllapsedTime: 75.5 seconds RetCode: 0 Status: OK PackageFile: spatzie_1.10.0.tar.gz PackageFileSize: 1.884 MiB