Package: spatialHeatmap Version: 2.10.2 Command: chmod a+r spatialHeatmap -R && E:\biocbuild\bbs-3.19-bioc\R\bin\R.exe CMD build --keep-empty-dirs --no-resave-data spatialHeatmap StartedAt: 2024-10-16 22:06:15 -0400 (Wed, 16 Oct 2024) EndedAt: 2024-10-16 22:15:07 -0400 (Wed, 16 Oct 2024) EllapsedTime: 531.2 seconds RetCode: 0 Status: OK PackageFile: spatialHeatmap_2.10.2.tar.gz PackageFileSize: 28.05 MiB