Package: spatialHeatmap Version: 2.10.2 Command: rm -rf spatialHeatmap.buildbin-libdir && mkdir spatialHeatmap.buildbin-libdir && E:\biocbuild\bbs-3.19-bioc\R\bin\R.exe CMD INSTALL --build --library=spatialHeatmap.buildbin-libdir spatialHeatmap_2.10.2.tar.gz StartedAt: 2024-10-17 08:41:57 -0400 (Thu, 17 Oct 2024) EndedAt: 2024-10-17 08:43:56 -0400 (Thu, 17 Oct 2024) EllapsedTime: 119.2 seconds RetCode: 0 Status: OK PackageFile: spatialHeatmap_2.10.2.zip PackageFileSize: 27.75 MiB