Package: spatialHeatmap Version: 2.10.2 Command: /home/biocbuild/bbs-3.19-bioc/R/bin/R CMD INSTALL spatialHeatmap StartedAt: 2024-10-16 16:40:31 -0400 (Wed, 16 Oct 2024) EndedAt: 2024-10-16 16:41:12 -0400 (Wed, 16 Oct 2024) EllapsedTime: 40.4 seconds RetCode: 0 Status: OK