Package: spatialHeatmap Version: 2.10.2 Command: /home/biocbuild/bbs-3.19-bioc/R/bin/R CMD check --install=check:spatialHeatmap.install-out.txt --library=/home/biocbuild/bbs-3.19-bioc/R/site-library --timings spatialHeatmap_2.10.2.tar.gz StartedAt: 2024-10-17 05:23:51 -0400 (Thu, 17 Oct 2024) EndedAt: 2024-10-17 05:34:05 -0400 (Thu, 17 Oct 2024) EllapsedTime: 614.3 seconds RetCode: 0 Status: OK CheckDir: spatialHeatmap.Rcheck Warnings: 0