Package: spatialHeatmap Version: 2.10.2 Command: /Library/Frameworks/R.framework/Resources/bin/R CMD build --keep-empty-dirs --no-resave-data spatialHeatmap StartedAt: 2024-10-16 23:35:43 -0400 (Wed, 16 Oct 2024) EndedAt: 2024-10-16 23:46:58 -0400 (Wed, 16 Oct 2024) EllapsedTime: 675.0 seconds RetCode: 0 Status: OK PackageFile: spatialHeatmap_2.10.2.tar.gz PackageFileSize: 35.14 MiB