Package: spatialHeatmap Version: 2.10.2 Command: /Library/Frameworks/R.framework/Resources/bin/R CMD INSTALL spatialHeatmap StartedAt: 2024-10-16 18:36:44 -0400 (Wed, 16 Oct 2024) EndedAt: 2024-10-16 18:37:32 -0400 (Wed, 16 Oct 2024) EllapsedTime: 48.5 seconds RetCode: 0 Status: OK