Package: spatialHeatmap Version: 2.10.2 Command: /Library/Frameworks/R.framework/Resources/bin/R CMD check --install=check:spatialHeatmap.install-out.txt --library=/Library/Frameworks/R.framework/Resources/library --no-vignettes --timings spatialHeatmap_2.10.2.tar.gz StartedAt: 2024-10-18 13:20:07 -0400 (Fri, 18 Oct 2024) EndedAt: 2024-10-18 13:28:13 -0400 (Fri, 18 Oct 2024) EllapsedTime: 486.4 seconds RetCode: 0 Status: OK CheckDir: spatialHeatmap.Rcheck Warnings: 0