Package: spatialHeatmap Version: 2.10.2 Command: rm -rf spatialHeatmap.buildbin-libdir && mkdir spatialHeatmap.buildbin-libdir && /Users/biocbuild/BBS/utils/build-universal.sh spatialHeatmap_2.10.2.tar.gz /Library/Frameworks/R.framework/Resources/bin/R spatialHeatmap.buildbin-libdir StartedAt: 2024-10-15 20:26:15 -0400 (Tue, 15 Oct 2024) EndedAt: 2024-10-15 20:27:24 -0400 (Tue, 15 Oct 2024) EllapsedTime: 69.2 seconds RetCode: 0 Status: OK PackageFile: spatialHeatmap_2.10.2.tgz PackageFileSize: 35 MiB