Package: spatialDE Version: 1.10.0 Command: rm -rf spatialDE.buildbin-libdir && mkdir spatialDE.buildbin-libdir && E:\biocbuild\bbs-3.19-bioc\R\bin\R.exe CMD INSTALL --build --library=spatialDE.buildbin-libdir spatialDE_1.10.0.tar.gz StartedAt: 2024-10-17 08:41:49 -0400 (Thu, 17 Oct 2024) EndedAt: 2024-10-17 08:42:26 -0400 (Thu, 17 Oct 2024) EllapsedTime: 37.1 seconds RetCode: 0 Status: OK PackageFile: spatialDE_1.10.0.zip PackageFileSize: 2.17 MiB