Package: spatialDE Version: 1.10.0 Command: chmod a+r spatialDE -R && F:\biocbuild\bbs-3.19-bioc\R\bin\R.exe CMD build --keep-empty-dirs --no-resave-data spatialDE StartedAt: 2024-06-26 22:05:54 -0400 (Wed, 26 Jun 2024) EndedAt: 2024-06-26 22:09:01 -0400 (Wed, 26 Jun 2024) EllapsedTime: 187.7 seconds RetCode: 0 Status: OK PackageFile: spatialDE_1.10.0.tar.gz PackageFileSize: 2.099 MiB