Package: spatialDE Version: 1.10.0 Command: /Library/Frameworks/R.framework/Resources/bin/R CMD check --install=check:spatialDE.install-out.txt --library=/Library/Frameworks/R.framework/Resources/library --no-vignettes --timings spatialDE_1.10.0.tar.gz StartedAt: 2024-10-17 13:34:14 -0400 (Thu, 17 Oct 2024) EndedAt: 2024-10-17 13:48:23 -0400 (Thu, 17 Oct 2024) EllapsedTime: 848.6 seconds RetCode: 0 Status: OK CheckDir: spatialDE.Rcheck Warnings: 0