Package: spatialDE Version: 1.10.0 Command: /Library/Frameworks/R.framework/Resources/bin/R CMD INSTALL spatialDE StartedAt: 2024-10-16 16:17:05 -0400 (Wed, 16 Oct 2024) EndedAt: 2024-10-16 16:17:30 -0400 (Wed, 16 Oct 2024) EllapsedTime: 25.0 seconds RetCode: 0 Status: OK