Package: spatialDE Version: 1.10.0 Command: rm -rf spatialDE.buildbin-libdir && mkdir spatialDE.buildbin-libdir && /Users/biocbuild/BBS/utils/build-universal.sh spatialDE_1.10.0.tar.gz /Library/Frameworks/R.framework/Resources/bin/R spatialDE.buildbin-libdir StartedAt: 2024-10-15 20:25:43 -0400 (Tue, 15 Oct 2024) EndedAt: 2024-10-15 20:26:16 -0400 (Tue, 15 Oct 2024) EllapsedTime: 33.2 seconds RetCode: 0 Status: OK PackageFile: spatialDE_1.10.0.tgz PackageFileSize: 3.943 MiB