Package: sparsenetgls Version: 1.22.0 Command: chmod a+r sparsenetgls -R && E:\biocbuild\bbs-3.19-bioc\R\bin\R.exe CMD build --keep-empty-dirs --no-resave-data sparsenetgls StartedAt: 2024-10-16 22:05:31 -0400 (Wed, 16 Oct 2024) EndedAt: 2024-10-16 22:09:35 -0400 (Wed, 16 Oct 2024) EllapsedTime: 243.7 seconds RetCode: 0 Status: OK PackageFile: sparsenetgls_1.22.0.tar.gz PackageFileSize: 281.2 KiB