Package: sparsenetgls Version: 1.22.0 Command: /Library/Frameworks/R.framework/Resources/bin/R CMD build --keep-empty-dirs --no-resave-data sparsenetgls StartedAt: 2024-10-16 23:34:28 -0400 (Wed, 16 Oct 2024) EndedAt: 2024-10-16 23:39:29 -0400 (Wed, 16 Oct 2024) EllapsedTime: 300.4 seconds RetCode: 0 Status: OK PackageFile: sparsenetgls_1.22.0.tar.gz PackageFileSize: 609.7 KiB