Package: sparsenetgls Version: 1.22.0 Maintainer: Irene Zeng MaintainerEmail: szen003 at aucklanduni.ac.nz git_url: https://git.bioconductor.org/packages/sparsenetgls git_branch: RELEASE_3_19 git_last_commit: 7aa2675 git_last_commit_date: 2024-04-30 11:09:10 -0400 (Tue, 30 Apr 2024)