Package: sparseMatrixStats Version: 1.16.0 Command: chmod a+r sparseMatrixStats -R && E:\biocbuild\bbs-3.19-bioc\R\bin\R.exe CMD build --keep-empty-dirs --no-resave-data sparseMatrixStats StartedAt: 2024-10-16 22:05:10 -0400 (Wed, 16 Oct 2024) EndedAt: 2024-10-16 22:06:01 -0400 (Wed, 16 Oct 2024) EllapsedTime: 51.4 seconds RetCode: 0 Status: OK PackageFile: sparseMatrixStats_1.16.0.tar.gz PackageFileSize: 686.9 KiB