Package: sparseMatrixStats Version: 1.16.0 Command: chmod a+r sparseMatrixStats -R && F:\biocbuild\bbs-3.19-bioc\R\bin\R.exe CMD build --keep-empty-dirs --no-resave-data sparseMatrixStats StartedAt: 2024-06-26 22:05:14 -0400 (Wed, 26 Jun 2024) EndedAt: 2024-06-26 22:06:14 -0400 (Wed, 26 Jun 2024) EllapsedTime: 59.4 seconds RetCode: 0 Status: OK PackageFile: sparseMatrixStats_1.16.0.tar.gz PackageFileSize: 686.9 KiB