Package: sparseMatrixStats Version: 1.16.0 Command: /home/biocbuild/bbs-3.19-bioc/R/bin/R CMD build --keep-empty-dirs --no-resave-data sparseMatrixStats StartedAt: 2024-10-16 20:56:29 -0400 (Wed, 16 Oct 2024) EndedAt: 2024-10-16 20:57:00 -0400 (Wed, 16 Oct 2024) EllapsedTime: 31.1 seconds RetCode: 0 Status: OK PackageFile: sparseMatrixStats_1.16.0.tar.gz PackageFileSize: 686.8 KiB