Package: sparseMatrixStats Version: 1.16.0 Command: /Library/Frameworks/R.framework/Resources/bin/R CMD build --keep-empty-dirs --no-resave-data sparseMatrixStats StartedAt: 2024-10-16 23:34:27 -0400 (Wed, 16 Oct 2024) EndedAt: 2024-10-16 23:35:43 -0400 (Wed, 16 Oct 2024) EllapsedTime: 75.6 seconds RetCode: 0 Status: OK PackageFile: sparseMatrixStats_1.16.0.tar.gz PackageFileSize: 686.7 KiB