Package: sparseMatrixStats Version: 1.16.0 Command: rm -rf sparseMatrixStats.buildbin-libdir && mkdir sparseMatrixStats.buildbin-libdir && /Users/biocbuild/BBS/utils/build-universal.sh sparseMatrixStats_1.16.0.tar.gz /Library/Frameworks/R.framework/Resources/bin/R sparseMatrixStats.buildbin-libdir StartedAt: 2024-10-17 17:15:31 -0400 (Thu, 17 Oct 2024) EndedAt: 2024-10-17 17:16:32 -0400 (Thu, 17 Oct 2024) EllapsedTime: 61.6 seconds RetCode: 0 Status: OK PackageFile: sparseMatrixStats_1.16.0.tgz PackageFileSize: 1.121 MiB