Package: sparseMatrixStats Version: 1.16.0 Command: /home/biocbuild/R/R-beta-2024-04-15_r86425/bin/R CMD build --keep-empty-dirs --no-resave-data sparseMatrixStats StartedAt: 2024-05-09 03:45:38 -0000 (Thu, 09 May 2024) EndedAt: 2024-05-09 03:46:33 -0000 (Thu, 09 May 2024) EllapsedTime: 55.1 seconds RetCode: 0 Status: OK PackageFile: sparseMatrixStats_1.16.0.tar.gz PackageFileSize: 710.3 KiB