Package: sparseDOSSA Version: 1.28.0 Command: chmod a+r sparseDOSSA -R && E:\biocbuild\bbs-3.19-bioc\R\bin\R.exe CMD build --keep-empty-dirs --no-resave-data sparseDOSSA StartedAt: 2024-10-16 22:05:08 -0400 (Wed, 16 Oct 2024) EndedAt: 2024-10-16 22:06:00 -0400 (Wed, 16 Oct 2024) EllapsedTime: 52.3 seconds RetCode: 0 Status: OK PackageFile: sparseDOSSA_1.28.0.tar.gz PackageFileSize: 970.2 KiB