Package: sparseDOSSA Version: 1.28.0 Command: rm -rf sparseDOSSA.buildbin-libdir && mkdir sparseDOSSA.buildbin-libdir && E:\biocbuild\bbs-3.19-bioc\R\bin\R.exe CMD INSTALL --build --library=sparseDOSSA.buildbin-libdir sparseDOSSA_1.28.0.tar.gz StartedAt: 2024-10-17 08:41:34 -0400 (Thu, 17 Oct 2024) EndedAt: 2024-10-17 08:41:53 -0400 (Thu, 17 Oct 2024) EllapsedTime: 19.1 seconds RetCode: 0 Status: OK PackageFile: sparseDOSSA_1.28.0.zip PackageFileSize: 649.5 KiB