Package: sparseDOSSA Version: 1.28.0 Command: chmod a+r sparseDOSSA -R && F:\biocbuild\bbs-3.19-bioc\R\bin\R.exe CMD build --keep-empty-dirs --no-resave-data sparseDOSSA StartedAt: 2024-06-26 22:04:55 -0400 (Wed, 26 Jun 2024) EndedAt: 2024-06-26 22:05:52 -0400 (Wed, 26 Jun 2024) EllapsedTime: 57.1 seconds RetCode: 0 Status: OK PackageFile: sparseDOSSA_1.28.0.tar.gz PackageFileSize: 970.1 KiB