Package: sparseDOSSA Version: 1.28.0 Command: rm -rf sparseDOSSA.buildbin-libdir && mkdir sparseDOSSA.buildbin-libdir && F:\biocbuild\bbs-3.19-bioc\R\bin\R.exe CMD INSTALL --build --library=sparseDOSSA.buildbin-libdir sparseDOSSA_1.28.0.tar.gz StartedAt: 2024-06-27 08:58:00 -0400 (Thu, 27 Jun 2024) EndedAt: 2024-06-27 08:58:13 -0400 (Thu, 27 Jun 2024) EllapsedTime: 13.2 seconds RetCode: 0 Status: OK PackageFile: sparseDOSSA_1.28.0.zip PackageFileSize: 649.5 KiB