Package: sparseDOSSA Version: 1.28.0 Command: /home/biocbuild/bbs-3.19-bioc/R/bin/R CMD INSTALL sparseDOSSA StartedAt: 2024-10-16 16:28:40 -0400 (Wed, 16 Oct 2024) EndedAt: 2024-10-16 16:28:46 -0400 (Wed, 16 Oct 2024) EllapsedTime: 6.1 seconds RetCode: 0 Status: OK