Package: sparseDOSSA Version: 1.28.0 Command: /Library/Frameworks/R.framework/Resources/bin/R CMD INSTALL sparseDOSSA StartedAt: 2024-06-09 15:31:25 -0400 (Sun, 09 Jun 2024) EndedAt: 2024-06-09 15:31:35 -0400 (Sun, 09 Jun 2024) EllapsedTime: 9.8 seconds RetCode: 0 Status: OK