Package: sparseDOSSA Version: 1.28.0 Command: /Library/Frameworks/R.framework/Resources/bin/R CMD check --install=check:sparseDOSSA.install-out.txt --library=/Library/Frameworks/R.framework/Resources/library --no-vignettes --timings sparseDOSSA_1.28.0.tar.gz StartedAt: 2024-06-09 23:12:55 -0400 (Sun, 09 Jun 2024) EndedAt: 2024-06-09 23:14:29 -0400 (Sun, 09 Jun 2024) EllapsedTime: 93.8 seconds RetCode: 0 Status: OK CheckDir: sparseDOSSA.Rcheck Warnings: 0