Package: sparseDOSSA Version: 1.28.0 Command: /Library/Frameworks/R.framework/Resources/bin/R CMD build --keep-empty-dirs --no-resave-data sparseDOSSA StartedAt: 2024-06-09 18:16:35 -0400 (Sun, 09 Jun 2024) EndedAt: 2024-06-09 18:17:21 -0400 (Sun, 09 Jun 2024) EllapsedTime: 46.2 seconds RetCode: 0 Status: OK PackageFile: sparseDOSSA_1.28.0.tar.gz PackageFileSize: 970.3 KiB