Package: sparseDOSSA Version: 1.28.0 Command: /Library/Frameworks/R.framework/Resources/bin/R CMD INSTALL sparseDOSSA StartedAt: 2024-06-09 16:51:14 -0400 (Sun, 09 Jun 2024) EndedAt: 2024-06-09 16:51:26 -0400 (Sun, 09 Jun 2024) EllapsedTime: 11.7 seconds RetCode: 0 Status: OK