Package: sparseDOSSA Version: 1.28.0 Command: /Library/Frameworks/R.framework/Resources/bin/R CMD check --install=check:sparseDOSSA.install-out.txt --library=/Library/Frameworks/R.framework/Resources/library --no-vignettes --timings sparseDOSSA_1.28.0.tar.gz StartedAt: 2024-06-11 06:25:48 -0400 (Tue, 11 Jun 2024) EndedAt: 2024-06-11 06:27:54 -0400 (Tue, 11 Jun 2024) EllapsedTime: 126.2 seconds RetCode: 0 Status: OK CheckDir: sparseDOSSA.Rcheck Warnings: 0