Package: sparseDOSSA Version: 1.28.0 Command: /Library/Frameworks/R.framework/Resources/bin/R CMD build --keep-empty-dirs --no-resave-data sparseDOSSA StartedAt: 2024-06-10 05:13:40 -0400 (Mon, 10 Jun 2024) EndedAt: 2024-06-10 05:14:54 -0400 (Mon, 10 Jun 2024) EllapsedTime: 74.1 seconds RetCode: 0 Status: OK PackageFile: sparseDOSSA_1.28.0.tar.gz PackageFileSize: 1.236 MiB