Package: sparseDOSSA Version: 1.28.0 Command: rm -rf sparseDOSSA.buildbin-libdir && mkdir sparseDOSSA.buildbin-libdir && /Users/biocbuild/BBS/utils/build-universal.sh sparseDOSSA_1.28.0.tar.gz /Library/Frameworks/R.framework/Resources/bin/R sparseDOSSA.buildbin-libdir StartedAt: 2024-06-11 13:20:49 -0400 (Tue, 11 Jun 2024) EndedAt: 2024-06-11 13:21:04 -0400 (Tue, 11 Jun 2024) EllapsedTime: 15.7 seconds RetCode: 0 Status: OK PackageFile: sparseDOSSA_1.28.0.tgz PackageFileSize: 947.7 KiB