Package: sparseDOSSA Version: 1.28.0 Command: /Library/Frameworks/R.framework/Resources/bin/R CMD build --keep-empty-dirs --no-resave-data sparseDOSSA StartedAt: 2024-10-17 09:43:27 -0400 (Thu, 17 Oct 2024) EndedAt: 2024-10-17 09:44:32 -0400 (Thu, 17 Oct 2024) EllapsedTime: 65.3 seconds RetCode: 0 Status: OK PackageFile: sparseDOSSA_1.28.0.tar.gz PackageFileSize: 1.236 MiB