Package: sparrow Version: 1.10.1 Command: E:\biocbuild\bbs-3.19-bioc\R\bin\R.exe CMD INSTALL sparrow StartedAt: 2024-10-16 16:47:15 -0400 (Wed, 16 Oct 2024) EndedAt: 2024-10-16 16:48:26 -0400 (Wed, 16 Oct 2024) EllapsedTime: 70.9 seconds RetCode: 0 Status: OK