Package: sparrow Version: 1.10.1 Command: chmod a+r sparrow -R && E:\biocbuild\bbs-3.19-bioc\R\bin\R.exe CMD build --keep-empty-dirs --no-resave-data sparrow StartedAt: 2024-10-16 22:04:55 -0400 (Wed, 16 Oct 2024) EndedAt: 2024-10-16 22:08:57 -0400 (Wed, 16 Oct 2024) EllapsedTime: 242.0 seconds RetCode: 0 Status: OK PackageFile: sparrow_1.10.1.tar.gz PackageFileSize: 3.848 MiB